BEGIN:VCALENDAR
VERSION:2.0
PRODID:-//ADAA - ECPv6.15.20//NONSGML v1.0//EN
CALSCALE:GREGORIAN
METHOD:PUBLISH
X-WR-CALNAME:ADAA
X-ORIGINAL-URL:https://adaausa.org
X-WR-CALDESC:Events for ADAA
REFRESH-INTERVAL;VALUE=DURATION:PT1H
X-Robots-Tag:noindex
X-PUBLISHED-TTL:PT1H
BEGIN:VTIMEZONE
TZID:UTC
BEGIN:STANDARD
TZOFFSETFROM:+0000
TZOFFSETTO:+0000
TZNAME:UTC
DTSTART:20240101T000000
END:STANDARD
END:VTIMEZONE
BEGIN:VEVENT
DTSTART;VALUE=DATE:20250815
DTEND;VALUE=DATE:20250817
DTSTAMP:20260420T114927
CREATED:20250729T183616Z
LAST-MODIFIED:20250729T183616Z
UID:27081-1755216000-1755388799@adaausa.org
SUMMARY:Kentucky Dental Assistants Association Annual Meeting
DESCRIPTION:The KYDAA will hold its annual meeting in conjunction with the Kentucky Dental Association in Louisville\, KY at the Crowne Plaza Expo Center Hotel.
URL:https://adaausa.org/event/kentucky-dental-assistants-association-annual-meeting/
LOCATION:Crowne Plaza\, Louisville\, K\, United States
ORGANIZER;CN="Kentucky Dental Assistants Association":MAILTO:v.henryrda@gmail.com
END:VEVENT
END:VCALENDAR