BEGIN:VCALENDAR
VERSION:2.0
PRODID:-//ADAA - ECPv6.15.20//NONSGML v1.0//EN
CALSCALE:GREGORIAN
METHOD:PUBLISH
X-ORIGINAL-URL:https://adaausa.org
X-WR-CALDESC:Events for ADAA
REFRESH-INTERVAL;VALUE=DURATION:PT1H
X-Robots-Tag:noindex
X-PUBLISHED-TTL:PT1H
BEGIN:VTIMEZONE
TZID:America/New_York
BEGIN:DAYLIGHT
TZOFFSETFROM:-0500
TZOFFSETTO:-0400
TZNAME:EDT
DTSTART:20240310T070000
END:DAYLIGHT
BEGIN:STANDARD
TZOFFSETFROM:-0400
TZOFFSETTO:-0500
TZNAME:EST
DTSTART:20241103T060000
END:STANDARD
BEGIN:DAYLIGHT
TZOFFSETFROM:-0500
TZOFFSETTO:-0400
TZNAME:EDT
DTSTART:20250309T070000
END:DAYLIGHT
BEGIN:STANDARD
TZOFFSETFROM:-0400
TZOFFSETTO:-0500
TZNAME:EST
DTSTART:20251102T060000
END:STANDARD
BEGIN:DAYLIGHT
TZOFFSETFROM:-0500
TZOFFSETTO:-0400
TZNAME:EDT
DTSTART:20260308T070000
END:DAYLIGHT
BEGIN:STANDARD
TZOFFSETFROM:-0400
TZOFFSETTO:-0500
TZNAME:EST
DTSTART:20261101T060000
END:STANDARD
END:VTIMEZONE
BEGIN:VTIMEZONE
TZID:UTC
BEGIN:STANDARD
TZOFFSETFROM:+0000
TZOFFSETTO:+0000
TZNAME:UTC
DTSTART:20240101T000000
END:STANDARD
END:VTIMEZONE
BEGIN:VTIMEZONE
TZID:America/Halifax
BEGIN:DAYLIGHT
TZOFFSETFROM:-0400
TZOFFSETTO:-0300
TZNAME:ADT
DTSTART:20250309T060000
END:DAYLIGHT
BEGIN:STANDARD
TZOFFSETFROM:-0300
TZOFFSETTO:-0400
TZNAME:AST
DTSTART:20251102T050000
END:STANDARD
BEGIN:DAYLIGHT
TZOFFSETFROM:-0400
TZOFFSETTO:-0300
TZNAME:ADT
DTSTART:20260308T060000
END:DAYLIGHT
BEGIN:STANDARD
TZOFFSETFROM:-0300
TZOFFSETTO:-0400
TZNAME:AST
DTSTART:20261101T050000
END:STANDARD
BEGIN:DAYLIGHT
TZOFFSETFROM:-0400
TZOFFSETTO:-0300
TZNAME:ADT
DTSTART:20270314T060000
END:DAYLIGHT
BEGIN:STANDARD
TZOFFSETFROM:-0300
TZOFFSETTO:-0400
TZNAME:AST
DTSTART:20271107T050000
END:STANDARD
END:VTIMEZONE
BEGIN:VEVENT
DTSTART;TZID=America/New_York:20250624T190000
DTEND;TZID=America/New_York:20250624T200000
DTSTAMP:20260425T112233
CREATED:20250606T013716Z
LAST-MODIFIED:20250606T013716Z
UID:27016-1750791600-1750795200@adaausa.org
SUMMARY:Webinar - Understanding the Complexities of the Brain During Oral Hygiene Instruction
DESCRIPTION:By understanding how the brain takes in information\, develops new habits and goals\, and deals with stress\, we can accomplish significantly better oral home care routines with our patients. When we deliver home care instructions aimed at memory retention and motivation\, using evidence-based behavioral change frameworks\, and having knowledge of a broad range of oral homecare tools to recommend\, we can truly see the change to healthy gums.
URL:https://adaausa.org/event/webinar-understanding-the-complexities-of-the-brain-during-oral-hygiene-instruction/
LOCATION:Virtual
ORGANIZER;CN="ADAA":MAILTO:info@adaausa.org
END:VEVENT
BEGIN:VEVENT
DTSTART;TZID=America/New_York:20250715T200000
DTEND;TZID=America/New_York:20250715T210000
DTSTAMP:20260425T112233
CREATED:20250701T153314Z
LAST-MODIFIED:20250701T153314Z
UID:27026-1752609600-1752613200@adaausa.org
SUMMARY:ADAA Connection Zone - The Magic of Connection with Purpose: Advocating for Dental Assistants
DESCRIPTION:Date/Time: Tuesday\, July 15. 8-9pm ET \nJoin us for a powerful and interactive session designed to ignite a unified voice for Dental Assistants across the country. The Magic of Connection with Purpose will equip attendees with the tools\, strategies\, and inspiration to become effective advocates for the profession. \nWith legislation and responsibilities rapidly evolving in dentistry\, now is the time for Dental Assistants to engage in shaping the future. From the rise of advanced expanded functions like the Oral Preventive Assistant (OPA) to the urgent need for consistent educational standards\, the profession stands at a pivotal moment. \nThis session will explore: \n\nWhy NOW is the time to take action\nThe key issues facing the profession\, including workforce shortages\, role expansion\, and public safety concerns\nThe two primary types of advocacy: Public and Government\nHow to craft compelling messaging that resonates with stakeholders\nReal-world advocacy success stories\, including recent legislative wins\n\nWhether you’re new to advocacy or ready to take your involvement to the next level\, this session will leave you informed\, empowered\, and connected with a broader community working toward the same goal: to elevate and protect the vital role of Dental Assistants in modern healthcare. \nWho Should Attend:\nDental Assistants\, educators\, association leaders\, and anyone passionate about advancing the profession and making a lasting impact.
URL:https://adaausa.org/event/adaa-connection-zone-the-magic-of-connection-with-purpose-advocating-for-dental-assistants/
LOCATION:Virtual
ORGANIZER;CN="ADAA":MAILTO:info@adaausa.org
END:VEVENT
BEGIN:VEVENT
DTSTART;TZID=UTC:20250724T080000
DTEND;TZID=UTC:20250724T170000
DTSTAMP:20260425T112233
CREATED:20250327T171845Z
LAST-MODIFIED:20250327T171845Z
UID:26922-1753344000-1753376400@adaausa.org
SUMMARY:American Medical Technologists Annual Meeting in Pennsylvania
DESCRIPTION:This meeting is for all allied health professionals who are interested in growing their professional development journey. Who should attend? \n\nRising Stars: Attendees with little or no prior leadership experience\nExperienced Leaders: Attendees with prior experience as volunteer leaders who want more engagement and opportunities to develop new skills\nPresiding Leaders: Attendees who have served as chair or president of a volunteer body\, or as CEO or executive director\, and want to perfect their leadership skill\n\nAMT is extending a one day rate of $99 on July 24th for any dental assistants who would like to attend.  Registration opens on April 14th.  The meeting is being held at the Wyndham Grand Pittsburgh Downtown.
URL:https://adaausa.org/event/american-medical-technologists-annual-meeting-in-pennsylvania/
END:VEVENT
BEGIN:VEVENT
DTSTART;VALUE=DATE:20250815
DTEND;VALUE=DATE:20250817
DTSTAMP:20260425T112233
CREATED:20250729T183616Z
LAST-MODIFIED:20250729T183616Z
UID:27081-1755216000-1755388799@adaausa.org
SUMMARY:Kentucky Dental Assistants Association Annual Meeting
DESCRIPTION:The KYDAA will hold its annual meeting in conjunction with the Kentucky Dental Association in Louisville\, KY at the Crowne Plaza Expo Center Hotel.
URL:https://adaausa.org/event/kentucky-dental-assistants-association-annual-meeting/
LOCATION:Crowne Plaza\, Louisville\, K\, United States
ORGANIZER;CN="Kentucky Dental Assistants Association":MAILTO:v.henryrda@gmail.com
END:VEVENT
BEGIN:VEVENT
DTSTART;VALUE=DATE:20250822
DTEND;VALUE=DATE:20250824
DTSTAMP:20260425T112233
CREATED:20250523T191051Z
LAST-MODIFIED:20250523T191051Z
UID:26992-1755820800-1755993599@adaausa.org
SUMMARY:Southwest Dental Conference
DESCRIPTION:Regional Dental Meeting with close to 6-8K dental professionals attending. Tons of CE opportunities and exhibits to check out.
URL:https://adaausa.org/event/southwest-dental-conference/
LOCATION:Hilton Anatole Dallas\, 2201 North Stemmons Freeway\, Dallas\, T\, 75207\, United States
END:VEVENT
BEGIN:VEVENT
DTSTART;TZID=America/New_York:20250918T200000
DTEND;TZID=America/New_York:20250918T210000
DTSTAMP:20260425T112233
CREATED:20250703T171421Z
LAST-MODIFIED:20250703T171421Z
UID:27027-1758225600-1758229200@adaausa.org
SUMMARY:Webinar - Disasters and Dental Assistants: Applying Our Knowledge to Help Victims and Families
DESCRIPTION:Thursday\, September 18\, 2025; 8:00 – 9:00 pm (Eastern time) \nDiscover the critical role dental assistants play in mass disaster response—both natural and manmade. This webinar will explore how dental assistants contribute within the morgue setting\, the impact of their work on disaster victim identification\, and the process behind when and why deployment occurs. Learn how your skills can make a meaningful difference during emergency situations.
URL:https://adaausa.org/event/webinar-disasters-and-dental-assistants-applying-our-knowledge-to-help-victims-and-families/
LOCATION:Virtual
ORGANIZER;CN="ADAA":MAILTO:info@adaausa.org
END:VEVENT
BEGIN:VEVENT
DTSTART;TZID=America/New_York:20251018T120000
DTEND;TZID=America/New_York:20251018T130000
DTSTAMP:20260425T112233
CREATED:20250917T212401Z
LAST-MODIFIED:20251016T164743Z
UID:27122-1760788800-1760792400@adaausa.org
SUMMARY:ADAA 2025 Annual Session
DESCRIPTION:ADAA Members are welcome to join us at the 2025 Annual Session.  This session will be held virtually.  To register for this event\, login to the Members Only portal\, select Events/Browse Upcoming Events\, select 2025 Annual Session and then Register in blue underneath the date and time.  A registration confirmation email will be sent to your email on file with ADAA with the meeting link.  Please note this link and information in your calendar. \nThis virtual event is held from 11am – 12pm CT / 12pm – 1pm ET.
URL:https://adaausa.org/event/adaa-annual-session/
END:VEVENT
BEGIN:VEVENT
DTSTART;TZID=America/New_York:20251021T200000
DTEND;TZID=America/New_York:20251021T210000
DTSTAMP:20260425T112233
CREATED:20251008T134908Z
LAST-MODIFIED:20251008T160357Z
UID:27138-1761076800-1761080400@adaausa.org
SUMMARY:Finding Your Fit: Thriving in a Dental Office Culture
DESCRIPTION:Learn how to integrate into a new team\, recognize healthy vs. toxic cultures\, ask smart interview questions\, and set yourself up for long-term success.
URL:https://adaausa.org/event/finding-your-fit-thriving-in-a-dental-office-culture/
LOCATION:Virtual
ORGANIZER;CN="ADAA":MAILTO:info@adaausa.org
END:VEVENT
BEGIN:VEVENT
DTSTART;VALUE=DATE:20251023
DTEND;VALUE=DATE:20251026
DTSTAMP:20260425T112233
CREATED:20250714T145951Z
LAST-MODIFIED:20250714T145951Z
UID:27055-1761177600-1761436799@adaausa.org
SUMMARY:SmileCon 2025
DESCRIPTION:
URL:https://adaausa.org/event/smilecon-2025/
LOCATION:Walter E. Washington Convention Center\, United States
END:VEVENT
BEGIN:VEVENT
DTSTART;TZID=America/New_York:20251023T200000
DTEND;TZID=America/New_York:20251023T210000
DTSTAMP:20260425T112233
CREATED:20251008T135015Z
LAST-MODIFIED:20251008T160451Z
UID:27139-1761249600-1761253200@adaausa.org
SUMMARY:Advancing Your Career and Your Salary
DESCRIPTION:Discover strategies for professional growth\, including certifications\, CE\, networking\, and salary negotiation to help you move into leadership and higher-paying roles.
URL:https://adaausa.org/event/advancing-your-career-and-your-salary/
LOCATION:Virtual
ORGANIZER;CN="ADAA":MAILTO:info@adaausa.org
END:VEVENT
BEGIN:VEVENT
DTSTART;VALUE=DATE:20251105
DTEND;VALUE=DATE:20251106
DTSTAMP:20260425T112233
CREATED:20250929T210704Z
LAST-MODIFIED:20251027T195117Z
UID:27129-1762300800-1762387199@adaausa.org
SUMMARY:ADAA Webinar: The Impact of Dental Therapy on the Profession of Dentistry
DESCRIPTION:ADAA Webinar: The Impact of Dental Therapy on the Profession of Dentistry \nRegister Here \nWednesday\, November 5th\, 2025; 7:00 – 8:00 pm (Eastern time) \nDescription: As the United States continues to face an access to dental care crisis\, dental therapy is often mentioned as a possible solution. This program will discuss how dental therapists are in improving access to care and how this will affect the profession of dentistry. The different types of dental therapists working today will be defined as well as their educational paths. The presenter will share about her journey to become a dental therapist through a pilot dental therapy program which trained dental hygienists with restorative endorsements the additional skills to become dental therapists.  The current status of dental therapy education in the United States will also be discussed.  \nLearning Objectives: At the end of this webinar\, participants will be able to… \n\nReview the current status of dental therapy in the United States   \n\n\nDiscuss how dental therapists are increasing access to care.  \n\n\nDiscuss the impact of dental therapy on the profession of dentistry. \n\n\nExplore models for dental therapy education. \n\nPresented by: Amy Coplen\, RDH\, DT\, MS  \n1.0 CE hour available \nAGD Subject Code: 550 and 558 \n \nAmerican Dental Assistants Association (ADAA)\nNationally Approved PACE Program Provider for FAGD/MAGD credit. Approval does not imply acceptance by any regulatory authority or AGD endorsement. 6/1/2025 to 5/31/2028.  Provider ID# 217389
URL:https://adaausa.org/event/adaa-webinar-the-impact-of-dental-therapy-on-the-profession-of-dentistry/
END:VEVENT
BEGIN:VEVENT
DTSTART;VALUE=DATE:20260106
DTEND;VALUE=DATE:20260107
DTSTAMP:20260425T112233
CREATED:20250930T172604Z
LAST-MODIFIED:20251210T183529Z
UID:27131-1767657600-1767743999@adaausa.org
SUMMARY:ADAA Webinar: 1-2-3 Steps of CBCT Interpretation 
DESCRIPTION:ADAA Webinar: 1-2-3 Steps of CBCT Interpretation \nPlease Note: This is a LIVE only webinar (virtual). There will be no recording of this webinar and no on-demand version. \nRegister Here \nTuesday\, January 6th\, 2026; 7:00 – 8:00 pm (Eastern time) \nDescription: This webinar is designed to prepare you to systematically review CBCT scans using the CS 3D imaging software. We will concentrate on efficiently manipulating CBCT scans using different views in every scope of practice. \nLearning Objectives: At the end of this webinar\, participants will be able to… \n\nManipulate scans efficiently using 3D imaging software.\nRecognize the difference between normal and abnormal anatomical structures.\nAnalyze and overcome most common artifacts and errors within CBCT scans.\n\nPresented by: Lea Al Matny\, DDS MS  \nDr. Lea Al Matny is a licensed Oral and Maxillofacial Radiologist at SeeThru Reports and Director of Clinical Education at Carestream Dental. Her passion lies in educating dental professionals on how to leverage 3D imaging to enhance diagnostic accuracy and transform patient care. Dr. Al Matny earned her certificate in Oral and Maxillofacial Radiology and Master’s in Dental Science from the University of Texas Health Science Center at San Antonio (UTHSA). In addition to her clinical role at SeeThru Reports\, she serves as a peer reviewer for the prestigious Oral Surgery\, Oral Pathology\, Oral Medicine\, and Oral Radiology (OOOO) journal and is actively engaged in numerous committees at the American Association of Oral and Maxillofacial Radiology (AAOMR).   \n1.0 CE hour available \n \nAmerican Dental Assistants Association (ADAA)\nNationally Approved PACE Program Provider for FAGD/MAGD credit. Approval does not imply acceptance by any regulatory authority or AGD endorsement. 6/1/2025 to 5/31/2028.  Provider ID# 217389
URL:https://adaausa.org/event/cbct-interpretation-adaa-webinars/
END:VEVENT
BEGIN:VEVENT
DTSTART;TZID=UTC:20260129T080000
DTEND;TZID=UTC:20260131T170000
DTSTAMP:20260425T112233
CREATED:20260114T172128Z
LAST-MODIFIED:20260114T172201Z
UID:27195-1769673600-1769878800@adaausa.org
SUMMARY:Yankee Dental Congress\, Boston\, Massachusetts
DESCRIPTION:Yankee Dental Congress is the nation’s top dental conferences for professionals seeking the highest quality dental continuing education\, as well as dental products\, services\, and resources.\nADAA Booth #1433\nDANB Booth #1525
URL:https://adaausa.org/event/yankee-dental-congress-boston-massachusetts/
LOCATION:Boston Convention & Exhibition Center\, Boston\, MA\, United States
ATTACH;FMTTYPE=image/jpeg:https://adaausa.org/wp-content/uploads/2026/01/2026-YDC-Theme-600x400-1.jpg
END:VEVENT
BEGIN:VEVENT
DTSTART;VALUE=DATE:20260131
DTEND;VALUE=DATE:20260201
DTSTAMP:20260425T112233
CREATED:20251114T214458Z
LAST-MODIFIED:20251114T214458Z
UID:27183-1769817600-1769903999@adaausa.org
SUMMARY:Florida Dental Assistants Association Meeting
DESCRIPTION:Amplify Your Impact! A day for dental assistants and students to engage\, ignite and be inspired! \nFeatured Educational Sessions: \nShowing off your superpowers! Tips and Tools for Making Dental Equipment Maintenance Easy-peasy. \nTools of the Trade: Smart Supply Management for Dental Assistants \nWhat’s in your water? Dental Unit Water Lines Safety Management \nFrom Ambitious to Achievement: Step up to Stand out.
URL:https://adaausa.org/event/florida-dental-assistants-association-meeting/
LOCATION:Daytona State College – Hosseini Center\, 1200 W. International Speedway Blvd.\, Daytona Beach\, Florida
END:VEVENT
BEGIN:VEVENT
DTSTART;VALUE=DATE:20260301
DTEND;VALUE=DATE:20260308
DTSTAMP:20260425T112233
CREATED:20260304T121009Z
LAST-MODIFIED:20260304T121009Z
UID:27277-1772323200-1772927999@adaausa.org
SUMMARY:Dental Assistants Recognition Week
DESCRIPTION:Dental Assistants Recognition Week™ (also known as DARW) is held the first full week in March every year\, and was designated by the American Dental Assistants Association as the perfect time to acknowledge and recognize the versatile\, multi-talented member of your dental team. Dentists in the United States and Canada will celebrate by honoring their dental assistants for their various duties and helping them provide patients with quality dental care.
URL:https://adaausa.org/event/dental-assistants-recognition-week/
END:VEVENT
BEGIN:VEVENT
DTSTART;VALUE=DATE:20260328
DTEND;VALUE=DATE:20260331
DTSTAMP:20260425T112233
CREATED:20260324T192103Z
LAST-MODIFIED:20260324T192103Z
UID:27287-1774656000-1774915199@adaausa.org
SUMMARY:Pacific Northwest Dental Conference
DESCRIPTION:PNDC unites thousands of dental professionals for three compelling days designed to elevate your practice\, energize your team\, and keep you at the forefront of dentistry. \nFrom cutting-edge dental CE lectures to hands-on workshops\, PNDC offers the opportunity to earn 20+ credits from an exceptional lineup of world-class speakers from the Pacific Northwest and across the United States. See our full dental CE schedule. Plus\, explore a dynamic three-day Exhibit Hall showcasing the latest dental technologies\, products and innovations.
URL:https://adaausa.org/event/pacific-northwest-dental-conference/
END:VEVENT
BEGIN:VEVENT
DTSTART;VALUE=DATE:20260409
DTEND;VALUE=DATE:20260412
DTSTAMP:20260425T112233
CREATED:20260325T144335Z
LAST-MODIFIED:20260325T144335Z
UID:27289-1775692800-1775951999@adaausa.org
SUMMARY:Oregon Dental Conference
DESCRIPTION:Join thousands of dental professionals at ODC 2026\, April 9-11 in Portland\, for 3 days of CE\, a 2-day dental exhibit hall\, special events\, and more!
URL:https://adaausa.org/event/oregon-dental-conference/
LOCATION:The Oregon Convention Center (OCC)\, 777 NE Martin Luther King Jr.\, Blvd\, Portland\, OR\, 97232\, United States
END:VEVENT
BEGIN:VEVENT
DTSTART;TZID=America/Halifax:20260521T190000
DTEND;TZID=America/Halifax:20260521T200000
DTSTAMP:20260425T112233
CREATED:20260424T133853Z
LAST-MODIFIED:20260424T133853Z
UID:27296-1779390000-1779393600@adaausa.org
SUMMARY:ADAA Webinar: The Why Behind Infection Control: A Practical Guide for Dental Assistants
DESCRIPTION:Date: May 21\, 2026\nTime: 7:00 PM – 8:00 PM ET\nContinuing Education: 1 CE\nPricing: Free for members | $25 for nonmembers\n\nRegistration link (on our new portal) will come soon!\n  \nThis webinar equips dental assistants with the foundational knowledge and practical tools to implement and maintain a compliant infection control program. Moving beyond checklists\, participants will explore the reasoning behind key protocols\, from sterilization and waterline management to documentation and regulatory alignment\, empowering them to protect patients and elevate the standard of care in their practice. AGD Code: 148\n\n\nLearning Objectives\n\nAt the end of this webinar\, participants will be able to… \n\nExplain the rationale behind key infection control protocols\, including sterilization\, waterline management\, and PPE use\, beyond rote compliance.\nDescribe the components of a comprehensive infection control program aligned with CDC\, OSHA\, and Joint Commission standards.\nDiscuss strategies for building a culture of infection control within a dental team\, including staff training and documentation practices.\nIdentify common infection control deficiencies found in dental settings and describe corrective actions to address them.\nApply lessons from a real-world FQHC quality improvement model to their own dental practice setting.\n\n\n\nReferences\n\nCenters for Disease Control and Prevention (CDC). Guidelines for Infection Control in Dental Health-Care Settings (2003)\nCDC. Summary of Infection Prevention Practices in Dental Settings: Basic Expectations for Safe Care (2016)\nOccupational Safety and Health Administration (OSHA). Bloodborne Pathogens Standard (29 CFR 1910.1030)\nThe Joint Commission. Comprehensive Accreditation Manual for Ambulatory Care (CAMAC)\nAmerican Dental Association (ADA). Dental Waterline Compliance Resources\nDental Assisting National Board (DANB). Certification in Dental Infection Prevention and Control (CDIPC) Competency Framework\n\n\n\nSpeaker\nMonica Padilla\, CDIPC\nHealthcare & Dental Operations Manager | Infection Control Specialist \nMonica Padilla is a Certified in Dental Infection Prevention and Control (CDIPC) professional and healthcare operations leader with over 15 years of dental experience including Federally Qualified Health Center (FQHC) settings. She built a comprehensive dental infection control program from the ground up\, achieving zero deficiencies in the 2022 Joint Commission survey and near-perfect results in 2025\, with the surveyor stating\, “You aced it.” Monica is an AHEC-Certified Spanish Medical Interpreter\, bringing a rare bilingual advantage to infection control education and patient care. She is a presenter at the 2026 Association for Dental Safety (ADS) Annual Conference and an ADAA Textbook Reviewer. Her work focuses on empowering dental teams to understand not just the how — but the why — behind infection control. \n  \nCredentials & Highlights  \n\n Certified in Dental Infection Prevention & Control (CDIPC) — DANB\, 2025\n AHEC-Certified Medical Interpreter — Spanish/English\n Bachelor of Science in Healthcare Administration — Charter Oak State College\n ADS 2026 Presenter — Annual Conference\, Salt Lake City\, UT\n ADAA Textbook Reviewer — Infection Control (x2)\n 15+years’ experience in dental and FQHC operations\nJoint Commission experience\n\n\n\nAccreditation\n\n\nUpon attendance and completion of a webinar evaluation\, you will be sent a CE certificate within 2 weeks of the event. This webinar will be recorded and available on-demand on our e-Learning Center (CE available) within 2 weeks as well. \n  \n\nAmerican Dental Assistants Association (ADAA)\nNationally Approved PACE Program Provider for FAGD/MAGD credit.\nApproval does not imply acceptance by\nany regulatory authority or AGD endorsement.\n6/1/2025 to 5/31/2028.\nProvider ID# 217389
URL:https://adaausa.org/event/adaa-webinar-the-why-behind-infection-control-a-practical-guide-for-dental-assistants/
LOCATION:Virtual
ORGANIZER;CN="ADAA":MAILTO:info@adaausa.org
END:VEVENT
END:VCALENDAR