BEGIN:VCALENDAR
VERSION:2.0
PRODID:-//ADAA - ECPv6.15.20//NONSGML v1.0//EN
CALSCALE:GREGORIAN
METHOD:PUBLISH
X-ORIGINAL-URL:https://adaausa.org
X-WR-CALDESC:Events for ADAA
REFRESH-INTERVAL;VALUE=DURATION:PT1H
X-Robots-Tag:noindex
X-PUBLISHED-TTL:PT1H
BEGIN:VTIMEZONE
TZID:America/New_York
BEGIN:DAYLIGHT
TZOFFSETFROM:-0500
TZOFFSETTO:-0400
TZNAME:EDT
DTSTART:20240310T070000
END:DAYLIGHT
BEGIN:STANDARD
TZOFFSETFROM:-0400
TZOFFSETTO:-0500
TZNAME:EST
DTSTART:20241103T060000
END:STANDARD
BEGIN:DAYLIGHT
TZOFFSETFROM:-0500
TZOFFSETTO:-0400
TZNAME:EDT
DTSTART:20250309T070000
END:DAYLIGHT
BEGIN:STANDARD
TZOFFSETFROM:-0400
TZOFFSETTO:-0500
TZNAME:EST
DTSTART:20251102T060000
END:STANDARD
BEGIN:DAYLIGHT
TZOFFSETFROM:-0500
TZOFFSETTO:-0400
TZNAME:EDT
DTSTART:20260308T070000
END:DAYLIGHT
BEGIN:STANDARD
TZOFFSETFROM:-0400
TZOFFSETTO:-0500
TZNAME:EST
DTSTART:20261101T060000
END:STANDARD
END:VTIMEZONE
BEGIN:VEVENT
DTSTART;TZID=America/New_York:20250624T190000
DTEND;TZID=America/New_York:20250624T200000
DTSTAMP:20260423T130438
CREATED:20250606T013716Z
LAST-MODIFIED:20250606T013716Z
UID:27016-1750791600-1750795200@adaausa.org
SUMMARY:Webinar - Understanding the Complexities of the Brain During Oral Hygiene Instruction
DESCRIPTION:By understanding how the brain takes in information\, develops new habits and goals\, and deals with stress\, we can accomplish significantly better oral home care routines with our patients. When we deliver home care instructions aimed at memory retention and motivation\, using evidence-based behavioral change frameworks\, and having knowledge of a broad range of oral homecare tools to recommend\, we can truly see the change to healthy gums.
URL:https://adaausa.org/event/webinar-understanding-the-complexities-of-the-brain-during-oral-hygiene-instruction/
LOCATION:Virtual
ORGANIZER;CN="ADAA":MAILTO:info@adaausa.org
END:VEVENT
END:VCALENDAR