BEGIN:VCALENDAR
VERSION:2.0
PRODID:-//ADAA - ECPv6.15.20//NONSGML v1.0//EN
CALSCALE:GREGORIAN
METHOD:PUBLISH
X-WR-CALNAME:ADAA
X-ORIGINAL-URL:https://adaausa.org
X-WR-CALDESC:Events for ADAA
REFRESH-INTERVAL;VALUE=DURATION:PT1H
X-Robots-Tag:noindex
X-PUBLISHED-TTL:PT1H
BEGIN:VTIMEZONE
TZID:America/New_York
BEGIN:DAYLIGHT
TZOFFSETFROM:-0500
TZOFFSETTO:-0400
TZNAME:EDT
DTSTART:20240310T070000
END:DAYLIGHT
BEGIN:STANDARD
TZOFFSETFROM:-0400
TZOFFSETTO:-0500
TZNAME:EST
DTSTART:20241103T060000
END:STANDARD
BEGIN:DAYLIGHT
TZOFFSETFROM:-0500
TZOFFSETTO:-0400
TZNAME:EDT
DTSTART:20250309T070000
END:DAYLIGHT
BEGIN:STANDARD
TZOFFSETFROM:-0400
TZOFFSETTO:-0500
TZNAME:EST
DTSTART:20251102T060000
END:STANDARD
BEGIN:DAYLIGHT
TZOFFSETFROM:-0500
TZOFFSETTO:-0400
TZNAME:EDT
DTSTART:20260308T070000
END:DAYLIGHT
BEGIN:STANDARD
TZOFFSETFROM:-0400
TZOFFSETTO:-0500
TZNAME:EST
DTSTART:20261101T060000
END:STANDARD
END:VTIMEZONE
BEGIN:VTIMEZONE
TZID:UTC
BEGIN:STANDARD
TZOFFSETFROM:+0000
TZOFFSETTO:+0000
TZNAME:UTC
DTSTART:20240101T000000
END:STANDARD
END:VTIMEZONE
BEGIN:VEVENT
DTSTART;TZID=America/New_York:20250715T200000
DTEND;TZID=America/New_York:20250715T210000
DTSTAMP:20260423T114120
CREATED:20250701T153314Z
LAST-MODIFIED:20250701T153314Z
UID:27026-1752609600-1752613200@adaausa.org
SUMMARY:ADAA Connection Zone - The Magic of Connection with Purpose: Advocating for Dental Assistants
DESCRIPTION:Date/Time: Tuesday\, July 15. 8-9pm ET \nJoin us for a powerful and interactive session designed to ignite a unified voice for Dental Assistants across the country. The Magic of Connection with Purpose will equip attendees with the tools\, strategies\, and inspiration to become effective advocates for the profession. \nWith legislation and responsibilities rapidly evolving in dentistry\, now is the time for Dental Assistants to engage in shaping the future. From the rise of advanced expanded functions like the Oral Preventive Assistant (OPA) to the urgent need for consistent educational standards\, the profession stands at a pivotal moment. \nThis session will explore: \n\nWhy NOW is the time to take action\nThe key issues facing the profession\, including workforce shortages\, role expansion\, and public safety concerns\nThe two primary types of advocacy: Public and Government\nHow to craft compelling messaging that resonates with stakeholders\nReal-world advocacy success stories\, including recent legislative wins\n\nWhether you’re new to advocacy or ready to take your involvement to the next level\, this session will leave you informed\, empowered\, and connected with a broader community working toward the same goal: to elevate and protect the vital role of Dental Assistants in modern healthcare. \nWho Should Attend:\nDental Assistants\, educators\, association leaders\, and anyone passionate about advancing the profession and making a lasting impact.
URL:https://adaausa.org/event/adaa-connection-zone-the-magic-of-connection-with-purpose-advocating-for-dental-assistants/
LOCATION:Virtual
ORGANIZER;CN="ADAA":MAILTO:info@adaausa.org
END:VEVENT
BEGIN:VEVENT
DTSTART;TZID=UTC:20250724T080000
DTEND;TZID=UTC:20250724T170000
DTSTAMP:20260423T114120
CREATED:20250327T171845Z
LAST-MODIFIED:20250327T171845Z
UID:26922-1753344000-1753376400@adaausa.org
SUMMARY:American Medical Technologists Annual Meeting in Pennsylvania
DESCRIPTION:This meeting is for all allied health professionals who are interested in growing their professional development journey. Who should attend? \n\nRising Stars: Attendees with little or no prior leadership experience\nExperienced Leaders: Attendees with prior experience as volunteer leaders who want more engagement and opportunities to develop new skills\nPresiding Leaders: Attendees who have served as chair or president of a volunteer body\, or as CEO or executive director\, and want to perfect their leadership skill\n\nAMT is extending a one day rate of $99 on July 24th for any dental assistants who would like to attend.  Registration opens on April 14th.  The meeting is being held at the Wyndham Grand Pittsburgh Downtown.
URL:https://adaausa.org/event/american-medical-technologists-annual-meeting-in-pennsylvania/
LOCATION:OR
END:VEVENT
END:VCALENDAR